Workbook

Sheet РЕЕСТР
L4: Прайс-лист
B7: Средство анализа защищенности «Сканер-ВС» 7 BASE. Сертификат ФСТЭК
B8: Электронная поставка - Средство анализа защищенности «Сканер-ВС» 7 BASE. Сертификат ФСТЭК
B9: Средство анализа защищенности «Сканер-ВС» 7 Enterprise. Сертификат ФСТЭК
B10: Электронная поставка - Средство анализа защищенности «Сканер-ВС» 7 Enterprise. Сертификат ФСТЭК
B11: Средство анализа защищенности «Сканер-ВС» 7 включает компонент "Инспектор". Сертификат ФСТЭК
B12: Электронная поставка - Средство анализа защищенности «Сканер-ВС» 7 включает компонент "Инспектор". Сертификат ФСТЭК
B13: Средство анализа защищенности «Сканер-ВС» 7 Enterprise включает компонент "Инспектор" . Сертификат ФСТЭК
B14: Электронная поставка - Средство анализа защищенности «Сканер-ВС» 7 Enterprise включает компонент "Инспектор". Сертификат ФСТЭК
B15: Программный комплекс «KOMRAD Enterprise SIEM» V4.5. Сертификат ФСТЭК России
B16: Анализатор исходных текстов программ «АК-ВС 3» без сертфиката соответствия.
B17: Электронная поставка - Анализатор исходных текстов программ «АК-ВС 3» без сертификата соответствия
B18: Анализатор исходных текстов программ «АК-ВС 3» сертификатом МО РФ
... B23: ПАК КП ПАВ «Рубикон» с функцией однонаправленного шлюза

Sheet Сканер-ВС 7.0 BASE ФСТЭК
A1: Средство анализа защищенности «Сканер-ВС» 7 BASE. Сертификат ФСТЭК
A2: Артикул | B2: Наименование | C2: Цена | D2: Количество | E2: Стоимость РРЦ | F2: Описание
A3: Основные лицензии (без НДС)
A4: SCANER-VS-7-04-B-F | B4: Средство анализа защищенности «Сканер-ВС». НПЕШ.00606-01. Лицензия на 4 IP адреса на 1 год (рег. № 231) | C4: =16500*1.15 -> 18975 | D4: 1 | E4: =C4*D4 -> 18975 | F4: Лицензия ПО «Сканер-ВС» на 1 год. 1 год обновления базы уязвимостей и технической поддержки. Сертификат ФСТЭК России по 4 уровню доверия.
A5: SCANER-VS-7-08-B-F | B5: Средство анализа защищенности «Сканер-ВС». НПЕШ.00606-01. Лицензия на 8 IP адресов на 1 год (рег. № 231) | C5: =27500*1.15 -> 31625 | D5: 1 | E5: =C5*D5 -> 31625 | F5: Лицензия ПО «Сканер-ВС» на 1 год. 1 год обновления базы уязвимостей и технической поддержки. Сертификат ФСТЭК России по 4 уровню доверия.
A6: SCANER-VS-7-16-B-F | B6: Средство анализа защищенности «Сканер-ВС». НПЕШ.00606-01. Лицензия на 16 IP адресов на 1 год (рег. № 231) | C6: =54000*1.15 -> 62100 | D6: 1 | E6: =C6*D6 -> 62100 | F6: Лицензия ПО «Сканер-ВС» на 1 год. 1 год обновления базы уязвимостей и технической поддержки. Сертификат ФСТЭК России по 4 уровню доверия.
A7: SCANER-VS-7-32-B-F | B7: Средство анализа защищенности «Сканер-ВС». НПЕШ.00606-01. Лицензия на 32 IP адреса на 1 год (рег. № 231) | C7: =78000*1.15 -> 89700 | D7: 1 | E7: =C7*D7 -> 89700 | F7: Лицензия ПО «Сканер-ВС» на 1 год. 1 год обновления базы уязвимостей и технической поддержки. Сертификат ФСТЭК России по 4 уровню доверия.
A8: SCANER-VS-7-64-B-F | B8: Средство анализа защищенности «Сканер-ВС». НПЕШ.00606-01. Лицензия на 64 IP адреса на 1 год (рег. № 231) | C8: =108000*1.15 -> 124200 | D8: 1 | E8: =C8*D8 -> 124200 | F8: Лицензия ПО «Сканер-ВС» на 1 год. 1 год обновления базы уязвимостей и технической поддержки. Сертификат ФСТЭК России по 4 уровню доверия.
A9: SCANER-VS-7-128-B-F | B9: Средство анализа защищенности «Сканер-ВС». НПЕШ.00606-01. Лицензия на 128 IP адресов на 1 год (рег. № 231) | C9: =162500*1.15 -> 186875 | D9: 1 | E9: =C9*D9 -> 186875 | F9: Лицензия ПО «Сканер-ВС» на 1 год. 1 год обновления базы уязвимостей и технической поддержки. Сертификат ФСТЭК России по 4 уровню доверия.
A10: SCANER-VS-7-256-B-F | B10: Средство анализа защищенности «Сканер-ВС». НПЕШ.00606-01. Лицензия на 256 IP адресов на 1 год (рег. № 231) | C10: =234000*1.15 -> 269100 | D10: 1 | E10: =C10*D10 -> 269100 | F10: Лицензия ПО «Сканер-ВС» на 1 год. 1 год обновления базы уязвимостей и технической поддержки. Сертификат ФСТЭК России по 4 уровню доверия.
A11: SCANER-VS-7-512-B-F | B11: Средство анализа защищенности «Сканер-ВС». НПЕШ.00606-01. Лицензия на 512 IP адресов на 1 год (рег. № 231) | C11: =364000*1.15 -> 418600 | D11: 1 | E11: =C11*D11 -> 418600 | F11: Лицензия ПО «Сканер-ВС» на 1 год. 1 год обновления базы уязвимостей и технической поддержки. Сертификат ФСТЭК России по 4 уровню доверия.
A12: SCANER-VS-7-1024-B-F | B12: Средство анализа защищенности «Сканер-ВС». НПЕШ.00606-01. Лицензия на 1024 IP адреса на 1 год (рег. № 231) | C12: =637000*1.15 -> 732550 | D12: 1 | E12: =C12*D12 -> 732550 | F12: Лицензия ПО «Сканер-ВС» на 1 год. 1 год обновления базы уязвимостей и технической поддержки. Сертификат ФСТЭК России по 4 уровню доверия.
A13: SCANER-VS-7-2048-B-F | B13: Средство анализа защищенности «Сканер-ВС». НПЕШ.00606-01. Лицензия на 2048 IP-адресов на 1 год (рег. № 231) | C13: =1040000*1.15 -> 1196000 | D13: 1 | E13: =C13*D13 -> 1196000 | F13: Лицензия ПО «Сканер-ВС» на 1 год. 1 год обновления базы уязвимостей и технической поддержки. Сертификат ФСТЭК России по 4 уровню доверия.
A14: SCANER-VS-7-4096-B-F | B14: Средство анализа защищенности «Сканер-ВС». НПЕШ.00606-01. Лицензия на 4096 IP-адресов на 1 год (рег. № 231) | C14: =1690000*1.15 -> 1943500 | D14: 1 | E14: =C14*D14 -> 1943500 | F14: Лицензия ПО «Сканер-ВС» на 1 год. 1 год обновления базы уязвимостей и технической поддержки. Сертификат ФСТЭК России по 4 уровню доверия.
A15: SCANER-VS-7-8192-B-F | B15: Средство анализа защищенности «Сканер-ВС». НПЕШ.00606-01. Лицензия на 8192 IP адреса на 1 год (рег. № 231) | C15: =3250000*1.15 -> 3737500 | D15: 1 | E15: =C15*D15 -> 3737500 | F15: Лицензия ПО «Сканер-ВС» на 1 год. 1 год обновления базы уязвимостей и технической поддержки. Сертификат ФСТЭК России по 4 уровню доверия.
A16: SCANER-VS-7-UNL-B-F | B16: Средство анализа защищенности «Сканер-ВС». НПЕШ.00606-01. Лицензия без ограничения IP адресов на 1 год (рег. № 231) | C16: =4550000*1.15 -> 5232500 | D16: 1 | E16: =C16*D16 -> 5232500 | F16: Лицензия ПО «Сканер-ВС» на 1 год. 1 год обновления базы уязвимостей и технической поддержки. Сертификат ФСТЭК России по 4 уровню доверия.
A17: Партнерская скидка распространяется на Средство анализа защищенности «Сканер-ВС»
A18: Комплект лицензий Сканер-ВС и Astra Linux, с USB (без НДС)
A19: SCANER-VS-7-04-B-F-AL | B19: Средство анализа защищенности «Сканер-ВС». НПЕШ.00606-01. Лицензия на 4 IP адреса на 1 год c OC CH ALSE (рег. № 231) | C19: =C4+32500 -> 51475 | D19: 1 | E19: =C19*D19 -> 51475 | F19: Лицензия ПО «Сканер-ВС» на 1 год. 1 год обновления базы уязвимостей и технической поддержки. Сертификат ФСТЭК России по 4 уровню доверия. Лицензия OC CH ALSE, USB-накопитель 256/512 GB.
A20: SCANER-VS-7-08-B-F-AL | B20: Средство анализа защищенности «Сканер-ВС». НПЕШ.00606-01. Лицензия на 8 IP адресов на 1 год c OC CH ALSE (рег. № 231) | C20: =C5+32500 -> 64125 | D20: 1 | E20: =C20*D20 -> 64125 | F20: Лицензия ПО «Сканер-ВС» на 1 год. 1 год обновления базы уязвимостей и технической поддержки. Сертификат ФСТЭК России по 4 уровню доверия. Лицензия OC CH ALSE, USB-накопитель 256/512 GB.
A21: SCANER-VS-7-16-B-F-AL | B21: Средство анализа защищенности «Сканер-ВС». НПЕШ.00606-01. Лицензия на 16 IP адресов на 1 год c OC CH ALSE (рег. № 231) | C21: =C6+32500 -> 94600 | D21: 1 | E21: =C21*D21 -> 94600 | F21: Лицензия ПО «Сканер-ВС» на 1 год. 1 год обновления базы уязвимостей и технической поддержки. Сертификат ФСТЭК России по 4 уровню доверия. Лицензия OC CH ALSE, USB-накопитель 256/512 GB.
A22: SCANER-VS-7-32-B-F-AL | B22: Средство анализа защищенности «Сканер-ВС». НПЕШ.00606-01. Лицензия на 32 IP адреса на 1 год c OC CH ALSE (рег. № 231) | C22: =C7+32500 -> 122200 | D22: 1 | E22: =C22*D22 -> 122200 | F22: Лицензия ПО «Сканер-ВС» на 1 год. 1 год обновления базы уязвимостей и технической поддержки. Сертификат ФСТЭК России по 4 уровню доверия. Лицензия OC CH ALSE, USB-накопитель 256/512 GB.
A23: SCANER-VS-7-64-B-F-AL | B23: Средство анализа защищенности «Сканер-ВС». НПЕШ.00606-01. Лицензия на 64 IP адреса на 1 год c OC CH ALSE (рег. № 231) | C23: =C8+32500 -> 156700 | D23: 1 | E23: =C23*D23 -> 156700 | F23: Лицензия ПО «Сканер-ВС» на 1 год. 1 год обновления базы уязвимостей и технической поддержки. Сертификат ФСТЭК России по 4 уровню доверия. Лицензия OC CH ALSE, USB-накопитель 256/512 GB.
A24: SCANER-VS-7-128-B-F-AL | B24: Средство анализа защищенности «Сканер-ВС». НПЕШ.00606-01. Лицензия на 128 IP адресов на 1 год c OC CH ALSE (рег. № 231) | C24: =C9+32500 -> 219375 | D24: 1 | E24: =C24*D24 -> 219375 | F24: Лицензия ПО «Сканер-ВС» на 1 год. 1 год обновления базы уязвимостей и технической поддержки. Сертификат ФСТЭК России по 4 уровню доверия. Лицензия OC CH ALSE, USB-накопитель 256/512 GB.
A25: SCANER-VS-7-256-B-F-AL | B25: Средство анализа защищенности «Сканер-ВС». НПЕШ.00606-01. Лицензия на 256 IP адресов на 1 год c OC CH ALSE (рег. № 231) | C25: =C10+32500 -> 301600 | D25: 1 | E25: =C25*D25 -> 301600 | F25: Лицензия ПО «Сканер-ВС» на 1 год. 1 год обновления базы уязвимостей и технической поддержки. Сертификат ФСТЭК России по 4 уровню доверия. Лицензия OC CH ALSE, USB-накопитель 256/512 GB.
A26: SCANER-VS-7-512-B-F-AL | B26: Средство анализа защищенности «Сканер-ВС». НПЕШ.00606-01. Лицензия на 512 IP адресов на 1 год c OC CH ALSE (рег. № 231) | C26: =C11+32500 -> 451100 | D26: 1 | E26: =C26*D26 -> 451100 | F26: Лицензия ПО «Сканер-ВС» на 1 год. 1 год обновления базы уязвимостей и технической поддержки. Сертификат ФСТЭК России по 4 уровню доверия. Лицензия OC CH ALSE, USB-накопитель 256/512 GB.
A27: SCANER-VS-7-1024-B-F-AL | B27: Средство анализа защищенности «Сканер-ВС». НПЕШ.00606-01. Лицензия на 1024 IP адреса на 1 год c OC CH ALSE (рег. № 231) | C27: =C12+32500 -> 765050 | D27: 1 | E27: =C27*D27 -> 765050 | F27: Лицензия ПО «Сканер-ВС» на 1 год. 1 год обновления базы уязвимостей и технической поддержки. Сертификат ФСТЭК России по 4 уровню доверия. Лицензия OC CH ALSE, USB-накопитель 256/512 GB.
A28: SCANER-VS-7-2048-B-F-AL | B28: Средство анализа защищенности «Сканер-ВС». НПЕШ.00606-01. Лицензия на 2048 IP-адресов на 1 год c OC CH ALSE (рег. № 231) | C28: =C13+32500 -> 1228500 | D28: 1 | E28: =C28*D28 -> 1228500 | F28: Лицензия ПО «Сканер-ВС» на 1 год. 1 год обновления базы уязвимостей и технической поддержки. Сертификат ФСТЭК России по 4 уровню доверия. Лицензия OC CH ALSE, USB-накопитель 256/512 GB.
A29: SCANER-VS-7-4096-B-F-AL | B29: Средство анализа защищенности «Сканер-ВС». НПЕШ.00606-01. Лицензия на 4096 IP-адресов на 1 год c OC CH ALSE (рег. № 231) | C29: =C14+32500 -> 1976000 | D29: 1 | E29: =C29*D29 -> 1976000 | F29: Лицензия ПО «Сканер-ВС» на 1 год. 1 год обновления базы уязвимостей и технической поддержки. Сертификат ФСТЭК России по 4 уровню доверия. Лицензия OC CH ALSE, USB-накопитель 256/512 GB.
A30: SCANER-VS-7-8192-B-F-AL | B30: Средство анализа защищенности «Сканер-ВС». НПЕШ.00606-01. Лицензия на 8192 IP адреса на 1 год c OC CH ALSE (рег. № 231) | C30: =C15+32500 -> 3770000 | D30: 1 | E30: =C30*D30 -> 3770000 | F30: Лицензия ПО «Сканер-ВС» на 1 год. 1 год обновления базы уязвимостей и технической поддержки. Сертификат ФСТЭК России по 4 уровню доверия. Лицензия OC CH ALSE, USB-накопитель 256/512 GB.
A31: SCANER-VS-7-UNL-B-F-AL | B31: Средство анализа защищенности «Сканер-ВС». НПЕШ.00606-01. Лицензия без ограничения IP адресов на 1 год c OC CH ALSE (рег. № 231) | C31: =C16+32500 -> 5265000 | D31: 1 | E31: =C31*D31 -> 5265000 | F31: Лицензия ПО «Сканер-ВС» на 1 год. 1 год обновления базы уязвимостей и технической поддержки. Сертификат ФСТЭК России по 4 уровню доверия. Лицензия OC CH ALSE, USB-накопитель 256/512 GB.
A32: Переход на новую версию ( с версии Сканер-ВС 5 )
A33: SCANER-VS-5/7-04-B-F-UPP | B33: Средство анализа защищенности «Сканер-ВС». НПЕШ.00606-01. Обновление до 7-й версии. Лицензия на 4 IP адреса (рег. № 231) | C33: =C4*0.4 -> 7590 | D33: 1 | E33: =C33*D33 -> 7590 | F33: Переход на 7 версию "Сканер-ВС". *переход возможен не ранее 3-х месяцев после приобретения версии Сканер-ВС 5.0. Соответствует срокам действующей лицензии
A34: SCANER-VS-5/7-08-B-F-UPP | B34: Средство анализа защищенности «Сканер-ВС». НПЕШ.00606-01. Обновление до 7-й версии. Лицензия на 8 IP адресов (рег. № 231) | C34: =C5*0.4 -> 12650 | D34: 1 | E34: =C34*D34 -> 12650 | F34: Переход на 7 версию "Сканер-ВС". *переход возможен не ранее 3-х месяцев после приобретения версии Сканер-ВС 5.0. Соответствует срокам действующей лицензии
A35: SCANER-VS-5/7-16-B-F-UPP | B35: Средство анализа защищенности «Сканер-ВС». НПЕШ.00606-01. Обновление до 7-й версии. Лицензия на 16 IP адресов (рег. № 231) | C35: =C6*0.4 -> 24840 | D35: 1 | E35: =C35*D35 -> 24840 | F35: Переход на 7 версию "Сканер-ВС". *переход возможен не ранее 3-х месяцев после приобретения версии Сканер-ВС 5.0. Соответствует срокам действующей лицензии
A36: SCANER-VS-5/7-32-B-F-UPP | B36: Средство анализа защищенности «Сканер-ВС». НПЕШ.00606-01. Обновление до 7-й версии. Лицензия на 32 IP адреса (рег. № 231) | C36: =C7*0.4 -> 35880 | D36: 1 | E36: =C36*D36 -> 35880 | F36: Переход на 7 версию "Сканер-ВС". *переход возможен не ранее 3-х месяцев после приобретения версии Сканер-ВС 5.0. Соответствует срокам действующей лицензии
A37: SCANER-VS-5/7-64-B-F-UPP | B37: Средство анализа защищенности «Сканер-ВС». НПЕШ.00606-01. Обновление до 7-й версии. Лицензия на 64 IP адреса (рег. № 231) | C37: =C8*0.4 -> 49680 | D37: 1 | E37: =C37*D37 -> 49680 | F37: Переход на 7 версию "Сканер-ВС". *переход возможен не ранее 3-х месяцев после приобретения версии Сканер-ВС 5.0. Соответствует срокам действующей лицензии
A38: SCANER-VS-5/7-128-B-F-UPP | B38: Средство анализа защищенности «Сканер-ВС». НПЕШ.00606-01. Обновление до 7-й версии. Лицензия на 128 IP адресов (рег. № 231) | C38: =C9*0.4 -> 74750 | D38: 1 | E38: =C38*D38 -> 74750 | F38: Переход на 7 версию "Сканер-ВС". *переход возможен не ранее 3-х месяцев после приобретения версии Сканер-ВС 5.0. Соответствует срокам действующей лицензии
A39: SCANER-VS-5/7-256-B-F-UPP | B39: Средство анализа защищенности «Сканер-ВС». НПЕШ.00606-01. Обновление до 7-й версии. Лицензия на 256 IP адресов (рег. № 231) | C39: =C10*0.4 -> 107640 | D39: 1 | E39: =C39*D39 -> 107640 | F39: Переход на 7 версию "Сканер-ВС". *переход возможен не ранее 3-х месяцев после приобретения версии Сканер-ВС 5.0. Соответствует срокам действующей лицензии
A40: SCANER-VS-5/7-512-B-F-UPP | B40: Средство анализа защищенности «Сканер-ВС». НПЕШ.00606-01. Обновление до 7-й версии. Лицензия на 512 IP адресов (рег. № 231) | C40: =C11*0.4 -> 167440 | D40: 1 | E40: =C40*D40 -> 167440 | F40: Переход на 7 версию "Сканер-ВС". *переход возможен не ранее 3-х месяцев после приобретения версии Сканер-ВС 5.0. Соответствует срокам действующей лицензии
...

Sheet (Э) Сканер-ВС 7.0 BASE ФСТЭК
A1: Электронная поставка - Средство анализа защищенности «Сканер-ВС» 7 BASE. Сертификат ФСТЭК
A2: Артикул | B2: Наименование | C2: Цена | D2: Количество | E2: Стоимость РРЦ | F2: Описание
A3: Основные лицензии (без НДС)
A4: SCANER-VS-7-01-B-F-EL | B4: Средство анализа защищенности «Сканер-ВС». НПЕШ.00606-01. Лицензия на 1 IP-адрес на 1 год. Электронная поставка (рег. № 231) | C4: =7000*1.1 -> 7700 | D4: 1 | E4: =C4*D4 -> 7700 | F4: Лицензия ПО «Сканер-ВС» на 1 год. 1 год обновления базы уязвимостей и технической поддержки. Без возможности продления. Сертификат ФСТЭК России по 4 уровню доверия. Электронная поставка.
A5: SCANER-VS-7-04-B-F-EL | B5: Средство анализа защищенности «Сканер-ВС». НПЕШ.00606-01. Лицензия на 4 IP адреса на 1 год. Электронная поставка (рег. № 231) | C5: =16500*1.15 -> 18975 | D5: 1 | E5: =C5*D5 -> 18975 | F5: Лицензия ПО «Сканер-ВС» на 1 год. 1 год обновления базы уязвимостей и технической поддержки. Сертификат ФСТЭК России по 4 уровню доверия. Электронная поставка.
A6: SCANER-VS-7-08-B-F-EL | B6: Средство анализа защищенности «Сканер-ВС». НПЕШ.00606-01. Лицензия на 8 IP адресов на 1 год. Электронная поставка (рег. № 231) | C6: =27500*1.15 -> 31625 | D6: 1 | E6: =C6*D6 -> 31625 | F6: Лицензия ПО «Сканер-ВС» на 1 год. 1 год обновления базы уязвимостей и технической поддержки. Сертификат ФСТЭК России по 4 уровню доверия. Электронная поставка.
A7: SCANER-VS-7-16-B-F-EL | B7: Средство анализа защищенности «Сканер-ВС». НПЕШ.00606-01. Лицензия на 16 IP адресов на 1 год. Электронная поставка (рег. № 231) | C7: =54000*1.15 -> 62100 | D7: 1 | E7: =C7*D7 -> 62100 | F7: Лицензия ПО «Сканер-ВС» на 1 год. 1 год обновления базы уязвимостей и технической поддержки. Сертификат ФСТЭК России по 4 уровню доверия. Электронная поставка.
A8: SCANER-VS-7-32-B-F-EL | B8: Средство анализа защищенности «Сканер-ВС». НПЕШ.00606-01. Лицензия на 32 IP адреса на 1 год. Электронная поставка (рег. № 231) | C8: =78000*1.15 -> 89700 | D8: 1 | E8: =C8*D8 -> 89700 | F8: Лицензия ПО «Сканер-ВС» на 1 год. 1 год обновления базы уязвимостей и технической поддержки. Сертификат ФСТЭК России по 4 уровню доверия. Электронная поставка.
A9: SCANER-VS-7-64-B-F-EL | B9: Средство анализа защищенности «Сканер-ВС». НПЕШ.00606-01. Лицензия на 64 IP адреса на 1 год. Электронная поставка (рег. № 231) | C9: =108000*1.15 -> 124200 | D9: 1 | E9: =C9*D9 -> 124200 | F9: Лицензия ПО «Сканер-ВС» на 1 год. 1 год обновления базы уязвимостей и технической поддержки. Сертификат ФСТЭК России по 4 уровню доверия. Электронная поставка.
A10: SCANER-VS-7-128-B-F-EL | B10: Средство анализа защищенности «Сканер-ВС». НПЕШ.00606-01. Лицензия на 128 IP адресов на 1 год. Электронная поставка (рег. № 231) | C10: =162500*1.15 -> 186875 | D10: 1 | E10: =C10*D10 -> 186875 | F10: Лицензия ПО «Сканер-ВС» на 1 год. 1 год обновления базы уязвимостей и технической поддержки. Сертификат ФСТЭК России по 4 уровню доверия. Электронная поставка.
A11: SCANER-VS-7-256-B-F-EL | B11: Средство анализа защищенности «Сканер-ВС». НПЕШ.00606-01. Лицензия на 256 IP адресов на 1 год. Электронная поставка (рег. № 231) | C11: =234000*1.15 -> 269100 | D11: 1 | E11: =C11*D11 -> 269100 | F11: Лицензия ПО «Сканер-ВС» на 1 год. 1 год обновления базы уязвимостей и технической поддержки. Сертификат ФСТЭК России по 4 уровню доверия. Электронная поставка.
A12: SCANER-VS-7-512-B-F-EL | B12: Средство анализа защищенности «Сканер-ВС». НПЕШ.00606-01. Лицензия на 512 IP адресов на 1 год. Электронная поставка (рег. № 231) | C12: =364000*1.15 -> 418600 | D12: 1 | E12: =C12*D12 -> 418600 | F12: Лицензия ПО «Сканер-ВС» на 1 год. 1 год обновления базы уязвимостей и технической поддержки. Сертификат ФСТЭК России по 4 уровню доверия. Электронная поставка.
A13: SCANER-VS-7-1024-B-F-EL | B13: Средство анализа защищенности «Сканер-ВС». НПЕШ.00606-01. Лицензия на 1024 IP адреса на 1 год. Электронная поставка (рег. № 231) | C13: =637000*1.15 -> 732550 | D13: 1 | E13: =C13*D13 -> 732550 | F13: Лицензия ПО «Сканер-ВС» на 1 год. 1 год обновления базы уязвимостей и технической поддержки. Сертификат ФСТЭК России по 4 уровню доверия. Электронная поставка.
A14: SCANER-VS-7-2048-B-F-EL | B14: Средство анализа защищенности «Сканер-ВС». НПЕШ.00606-01. Лицензия на 2048 IP-адресов на 1 год. Электронная поставка (рег. № 231) | C14: =1040000*1.15 -> 1196000 | D14: 1 | E14: =C14*D14 -> 1196000 | F14: Лицензия ПО «Сканер-ВС» на 1 год. 1 год обновления базы уязвимостей и технической поддержки. Сертификат ФСТЭК России по 4 уровню доверия. Электронная поставка.
A15: SCANER-VS-7-4096-B-F-EL | B15: Средство анализа защищенности «Сканер-ВС». НПЕШ.00606-01. Лицензия на 4096 IP-адресов на 1 год. Электронная поставка (рег. № 231) | C15: =1690000*1.15 -> 1943500 | D15: 1 | E15: =C15*D15 -> 1943500 | F15: Лицензия ПО «Сканер-ВС» на 1 год. 1 год обновления базы уязвимостей и технической поддержки. Сертификат ФСТЭК России по 4 уровню доверия. Электронная поставка.
A16: SCANER-VS-7-8192-B-F-EL | B16: Средство анализа защищенности «Сканер-ВС». НПЕШ.00606-01. Лицензия на 8192 IP адреса на 1 год. Электронная поставка (рег. № 231) | C16: =3250000*1.15 -> 3737500 | D16: 1 | E16: =C16*D16 -> 3737500 | F16: Лицензия ПО «Сканер-ВС» на 1 год. 1 год обновления базы уязвимостей и технической поддержки. Сертификат ФСТЭК России по 4 уровню доверия. Электронная поставка.
A17: SCANER-VS-7-UNL-B-F-EL | B17: Средство анализа защищенности «Сканер-ВС». НПЕШ.00606-01. Лицензия без ограничения IP адресов на 1 год. Электронная поставка (рег. № 231) | C17: =4550000*1.15 -> 5232500 | D17: 1 | E17: =C17*D17 -> 5232500 | F17: Лицензия ПО «Сканер-ВС» на 1 год. 1 год обновления базы уязвимостей и технической поддержки. Сертификат ФСТЭК России по 4 уровню доверия. Электронная поставка.
A18: Переход на новую версию ( с версии Сканер-ВС 5 )
A19: SCANER-VS-5/7-04-B-F-UPP-EL | B19: Средство анализа защищенности «Сканер-ВС». НПЕШ.00606-01. Обновление до 7-й версии. Лицензия на 4 IP адреса. Электронная поставка (рег. № 231) | C19: =C5*0.4 -> 7590 | D19: 1 | E19: =C19*D19 -> 7590 | F19: Переход на 7 версию "Сканер-ВС". *переход возможен не ранее 3-х месяцев после приобретения версии Сканер-ВС 5.0. Соответствует срокам действующей лицензии Электронная поставка.
A20: SCANER-VS-5/7-08-B-F-UPP-EL | B20: Средство анализа защищенности «Сканер-ВС». НПЕШ.00606-01. Обновление до 7-й версии. Лицензия на 8 IP адресов. Электронная поставка (рег. № 231) | C20: =C6*0.4 -> 12650 | D20: 1 | E20: =C20*D20 -> 12650 | F20: Переход на 7 версию "Сканер-ВС". *переход возможен не ранее 3-х месяцев после приобретения версии Сканер-ВС 5.0. Соответствует срокам действующей лицензии Электронная поставка.
A21: SCANER-VS-5/7-16-B-F-UPP-EL | B21: Средство анализа защищенности «Сканер-ВС». НПЕШ.00606-01. Обновление до 7-й версии. Лицензия на 16 IP адресов. Электронная поставка (рег. № 231) | C21: =C7*0.4 -> 24840 | D21: 1 | E21: =C21*D21 -> 24840 | F21: Переход на 7 версию "Сканер-ВС". *переход возможен не ранее 3-х месяцев после приобретения версии Сканер-ВС 5.0. Соответствует срокам действующей лицензии Электронная поставка.
A22: SCANER-VS-5/7-32-B-F-UPP-EL | B22: Средство анализа защищенности «Сканер-ВС». НПЕШ.00606-01. Обновление до 7-й версии. Лицензия на 32 IP адреса. Электронная поставка (рег. № 231) | C22: =C8*0.4 -> 35880 | D22: 1 | E22: =C22*D22 -> 35880 | F22: Переход на 7 версию "Сканер-ВС". *переход возможен не ранее 3-х месяцев после приобретения версии Сканер-ВС 5.0. Соответствует срокам действующей лицензии Электронная поставка.
A23: SCANER-VS-5/7-64-B-F-UPP-EL | B23: Средство анализа защищенности «Сканер-ВС». НПЕШ.00606-01. Обновление до 7-й версии. Лицензия на 64 IP адреса. Электронная поставка (рег. № 231) | C23: =C9*0.4 -> 49680 | D23: 1 | E23: =C23*D23 -> 49680 | F23: Переход на 7 версию "Сканер-ВС". *переход возможен не ранее 3-х месяцев после приобретения версии Сканер-ВС 5.0. Соответствует срокам действующей лицензии Электронная поставка.
A24: SCANER-VS-5/7-128-B-F-UPP-EL | B24: Средство анализа защищенности «Сканер-ВС». НПЕШ.00606-01. Обновление до 7-й версии. Лицензия на 128 IP адресов. Электронная поставка (рег. № 231) | C24: =C10*0.4 -> 74750 | D24: 1 | E24: =C24*D24 -> 74750 | F24: Переход на 7 версию "Сканер-ВС". *переход возможен не ранее 3-х месяцев после приобретения версии Сканер-ВС 5.0. Соответствует срокам действующей лицензии Электронная поставка.
A25: SCANER-VS-5/7-256-B-F-UPP-EL | B25: Средство анализа защищенности «Сканер-ВС». НПЕШ.00606-01. Обновление до 7-й версии. Лицензия на 256 IP адресов. Электронная поставка (рег. № 231) | C25: =C11*0.4 -> 107640 | D25: 1 | E25: =C25*D25 -> 107640 | F25: Переход на 7 версию "Сканер-ВС". *переход возможен не ранее 3-х месяцев после приобретения версии Сканер-ВС 5.0. Соответствует срокам действующей лицензии Электронная поставка.
A26: SCANER-VS-5/7-512-B-F-UPP-EL | B26: Средство анализа защищенности «Сканер-ВС». НПЕШ.00606-01. Обновление до 7-й версии. Лицензия на 512 IP адресов. Электронная поставка (рег. № 231) | C26: =C12*0.4 -> 167440 | D26: 1 | E26: =C26*D26 -> 167440 | F26: Переход на 7 версию "Сканер-ВС". *переход возможен не ранее 3-х месяцев после приобретения версии Сканер-ВС 5.0. Соответствует срокам действующей лицензии Электронная поставка.
A27: SCANER-VS-5/7-1024-B-F-UPP-EL | B27: Средство анализа защищенности «Сканер-ВС». НПЕШ.00606-01. Обновление до 7-й версии. Лицензия на 1024 IP адреса. Электронная поставка (рег. № 231) | C27: =C13*0.4 -> 293020 | D27: 1 | E27: =C27*D27 -> 293020 | F27: Переход на 7 версию "Сканер-ВС". *переход возможен не ранее 3-х месяцев после приобретения версии Сканер-ВС 5.0. Соответствует срокам действующей лицензии Электронная поставка.
A28: SCANER-VS-5/7-UNL-B-F-UPP-EL | B28: Средство анализа защищенности «Сканер-ВС». НПЕШ.00606-01. Обновление до 7-й версии. Лицензия без ограничения IP адресов. Электронная поставка (рег. № 231) | C28: =C17*0.4 -> 2093000 | D28: 1 | E28: =C28*D28 -> 2093000 | F28: Переход на 7 версию "Сканер-ВС". *переход возможен не ранее 3-х месяцев после приобретения версии Сканер-ВС 5.0. Соответствует срокам действующей лицензии Электронная поставка.
A29: Переход на новую версию ( с версии Сканер-ВС 6 )
A30: SCANER-VS-6/7-04-B-F-UPP-EL | B30: Средство анализа защищенности «Сканер-ВС». НПЕШ.00606-01. Обновление до 7-й версии. Лицензия на 4 IP адреса. Электронная поставка (рег. № 231) | C30: =C5*0.2 -> 3795 | D30: 1 | E30: =C30*D30 -> 3795 | F30: Переход на 7 версию "Сканер-ВС". Соответствует срокам действующей лицензии Электронная поставка.
A31: SCANER-VS-6/7-08-B-F-UPP-EL | B31: Средство анализа защищенности «Сканер-ВС». НПЕШ.00606-01. Обновление до 7-й версии. Лицензия на 8 IP адресов. Электронная поставка (рег. № 231) | C31: =C6*0.2 -> 6325 | D31: 1 | E31: =C31*D31 -> 6325 | F31: Переход на 7 версию "Сканер-ВС". Соответствует срокам действующей лицензии Электронная поставка.
A32: SCANER-VS-6/7-16-B-F-UPP-EL | B32: Средство анализа защищенности «Сканер-ВС». НПЕШ.00606-01. Обновление до 7-й версии. Лицензия на 16 IP адресов. Электронная поставка (рег. № 231) | C32: =C7*0.2 -> 12420 | D32: 1 | E32: =C32*D32 -> 12420 | F32: Переход на 7 версию "Сканер-ВС". Соответствует срокам действующей лицензии Электронная поставка.
A33: SCANER-VS-6/7-32-B-F-UPP-EL | B33: Средство анализа защищенности «Сканер-ВС». НПЕШ.00606-01. Обновление до 7-й версии. Лицензия на 32 IP адреса. Электронная поставка (рег. № 231) | C33: =C8*0.2 -> 17940 | D33: 1 | E33: =C33*D33 -> 17940 | F33: Переход на 7 версию "Сканер-ВС". Соответствует срокам действующей лицензии Электронная поставка.
A34: SCANER-VS-6/7-64-B-F-UPP-EL | B34: Средство анализа защищенности «Сканер-ВС». НПЕШ.00606-01. Обновление до 7-й версии. Лицензия на 64 IP адреса. Электронная поставка (рег. № 231) | C34: =C9*0.2 -> 24840 | D34: 1 | E34: =C34*D34 -> 24840 | F34: Переход на 7 версию "Сканер-ВС". Соответствует срокам действующей лицензии Электронная поставка.
A35: SCANER-VS-6/7-128-B-F-UPP-EL | B35: Средство анализа защищенности «Сканер-ВС». НПЕШ.00606-01. Обновление до 7-й версии. Лицензия на 128 IP адресов. Электронная поставка (рег. № 231) | C35: =C10*0.2 -> 37375 | D35: 1 | E35: =C35*D35 -> 37375 | F35: Переход на 7 версию "Сканер-ВС". Соответствует срокам действующей лицензии Электронная поставка.
A36: SCANER-VS-6/7-256-B-F-UPP-EL | B36: Средство анализа защищенности «Сканер-ВС». НПЕШ.00606-01. Обновление до 7-й версии. Лицензия на 256 IP адресов. Электронная поставка (рег. № 231) | C36: =C11*0.2 -> 53820 | D36: 1 | E36: =C36*D36 -> 53820 | F36: Переход на 7 версию "Сканер-ВС". Соответствует срокам действующей лицензии Электронная поставка.
A37: SCANER-VS-6/7-512-B-F-UPP-EL | B37: Средство анализа защищенности «Сканер-ВС». НПЕШ.00606-01. Обновление до 7-й версии. Лицензия на 512 IP адресов. Электронная поставка (рег. № 231) | C37: =C12*0.2 -> 83720 | D37: 1 | E37: =C37*D37 -> 83720 | F37: Переход на 7 версию "Сканер-ВС". Соответствует срокам действующей лицензии Электронная поставка.
A38: SCANER-VS-6/7-1024-B-F-UPP-EL | B38: Средство анализа защищенности «Сканер-ВС». НПЕШ.00606-01. Обновление до 7-й версии. Лицензия на 1024 IP адреса. Электронная поставка (рег. № 231) | C38: =C13*0.2 -> 146510 | D38: 1 | E38: =C38*D38 -> 146510 | F38: Переход на 7 версию "Сканер-ВС". Соответствует срокам действующей лицензии Электронная поставка.
A39: SCANER-VS-6/7-2048-B-F-UPP-EL | B39: Средство анализа защищенности «Сканер-ВС». НПЕШ.00606-01. Обновление до 7-й версии. Лицензия на 2048 IP-адресов. Электронная поставка (рег. № 231) | C39: =C14*0.2 -> 239200 | D39: 1 | E39: =C39*D39 -> 239200 | F39: Переход на 7 версию "Сканер-ВС". Соответствует срокам действующей лицензии Электронная поставка.
A40: SCANER-VS-6/7-4096-B-F-UPP-EL | B40: Средство анализа защищенности «Сканер-ВС». НПЕШ.00606-01. Обновление до 7-й версии. Лицензия на 4096 IP-адресов. Электронная поставка (рег. № 231) | C40: =C15*0.2 -> 388700 | D40: 1 | E40: =C40*D40 -> 388700 | F40: Переход на 7 версию "Сканер-ВС". Соответствует срокам действующей лицензии Электронная поставка.
...

Sheet Сканер-ВС 7.0 Enterprise
A1: Средство анализа защищенности «Сканер-ВС» 7 Enterprise. Сертификат ФСТЭК
A2: Артикул | B2: Наименование | C2: Цена | D2: Количество | E2: Стоимость РРЦ | F2: Описание
A3: Основные лицензии (без НДС)
A4: SCANER-VS-7-8-E-F | B4: Программное обеспечение "Сканер-ВС". Лицензия Enterprise на 8 активов на 1 год (рег. № 231) | C4: =60000 -> 60000 | D4: 1 | E4: =D4*C4 -> 60000 | F4: Лицензия на программное обеспечение "Сканер-ВС". Лицензия Enterprise на 1 год. Обновления базы уязвимостей, технической поддержки и аудита конфигурации ОС в течение 1 года. Сертификат ФСТЭК России по 4 уровню доверия.
A5: SCANER-VS-7-16-E-F | B5: Программное обеспечение "Сканер-ВС". Лицензия Enterprise на 16 активов на 1 год (рег. № 231) | C5: =110000 -> 110000 | D5: 1 | E5: =D5*C5 -> 110000 | F5: Лицензия на программное обеспечение "Сканер-ВС". Лицензия Enterprise на 1 год. Обновления базы уязвимостей, технической поддержки и аудита конфигурации ОС в течение 1 года. Сертификат ФСТЭК России по 4 уровню доверия.
A6: SCANER-VS-7-32-E-F | B6: Программное обеспечение "Сканер-ВС". Лицензия Enterprise на 32 активов на 1 год (рег. № 231) | C6: =189000 -> 189000 | D6: 1 | E6: =D6*C6 -> 189000 | F6: Лицензия на программное обеспечение "Сканер-ВС". Лицензия Enterprise на 1 год. Обновления базы уязвимостей, технической поддержки и аудита конфигурации ОС в течение 1 года. Сертификат ФСТЭК России по 4 уровню доверия.
A7: SCANER-VS-7-64-E-F | B7: Программное обеспечение "Сканер-ВС". Лицензия Enterprise на 64 активов на 1 год (рег. № 231) | C7: 274000 | D7: 1 | E7: =D7*C7 -> 274000 | F7: Лицензия на программное обеспечение "Сканер-ВС". Лицензия Enterprise на 1 год. Обновления базы уязвимостей, технической поддержки и аудита конфигурации ОС в течение 1 года. Сертификат ФСТЭК России по 4 уровню доверия.
A8: SCANER-VS-7-128-E-F | B8: Программное обеспечение "Сканер-ВС". Лицензия Enterprise на 128 активов на 1 год (рег. № 231) | C8: =386000 -> 386000 | D8: 1 | E8: =D8*C8 -> 386000 | F8: Лицензия на программное обеспечение "Сканер-ВС". Лицензия Enterprise на 1 год. Обновления базы уязвимостей, технической поддержки и аудита конфигурации ОС в течение 1 года. Сертификат ФСТЭК России по 4 уровню доверия.
A9: SCANER-VS-7-256-E-F | B9: Программное обеспечение "Сканер-ВС". Лицензия Enterprise на 256 активов на 1 год (рег. № 231) | C9: =600000*1.15 -> 690000 | D9: 1 | E9: =D9*C9 -> 690000 | F9: Лицензия на программное обеспечение "Сканер-ВС". Лицензия Enterprise на 1 год. Обновления базы уязвимостей, технической поддержки и аудита конфигурации ОС в течение 1 года. Сертификат ФСТЭК России по 4 уровню доверия.
A10: SCANER-VS-7-512-E-F | B10: Программное обеспечение "Сканер-ВС". Лицензия Enterprise на 512 активов на 1 год (рег. № 231) | C10: =1100000*1.15 -> 1265000 | D10: 1 | E10: =D10*C10 -> 1265000 | F10: Лицензия на программное обеспечение "Сканер-ВС". Лицензия Enterprise на 1 год. Обновления базы уязвимостей, технической поддержки и аудита конфигурации ОС в течение 1 года. Сертификат ФСТЭК России по 4 уровню доверия.
A11: SCANER-VS-7-1024-E-F | B11: Программное обеспечение "Сканер-ВС". Лицензия Enterprise на 1024 активов на 1 год (рег. № 231) | C11: =1600000*1.15 -> 1840000 | D11: 1 | E11: =D11*C11 -> 1840000 | F11: Лицензия на программное обеспечение "Сканер-ВС". Лицензия Enterprise на 1 год. Обновления базы уязвимостей, технической поддержки и аудита конфигурации ОС в течение 1 года. Сертификат ФСТЭК России по 4 уровню доверия.
A12: SCANER-VS-7-2048-E-F | B12: Программное обеспечение "Сканер-ВС". Лицензия Enterprise на 2048 активов на 1 год (рег. № 231) | C12: =2100000*1.15 -> 2415000 | D12: 1 | E12: =D12*C12 -> 2415000 | F12: Лицензия на программное обеспечение "Сканер-ВС". Лицензия Enterprise на 1 год. Обновления базы уязвимостей, технической поддержки и аудита конфигурации ОС в течение 1 года. Сертификат ФСТЭК России по 4 уровню доверия.
A13: SCANER-VS-7-4096-E-F | B13: Программное обеспечение "Сканер-ВС". Лицензия Enterprise на 4096 активов на 1 год (рег. № 231) | C13: ='Сканер-ВС 7.0 BASE ФСТЭК'!C14+1500000 -> 3443500 | D13: 1 | E13: =D13*C13 -> 3443500 | F13: Лицензия на программное обеспечение "Сканер-ВС". Лицензия Enterprise на 1 год. Обновления базы уязвимостей, технической поддержки и аудита конфигурации ОС в течение 1 года. Сертификат ФСТЭК России по 4 уровню доверия.
A14: SCANER-VS-7-8192-E-F | B14: Программное обеспечение "Сканер-ВС". Лицензия Enterprise на 8192 активов на 1 год (рег. № 231) | C14: ='Сканер-ВС 7.0 BASE ФСТЭК'!C15+1750000 -> 5487500 | D14: 1 | E14: =D14*C14 -> 5487500 | F14: Лицензия на программное обеспечение "Сканер-ВС". Лицензия Enterprise на 1 год. Обновления базы уязвимостей, технической поддержки и аудита конфигурации ОС в течение 1 года. Сертификат ФСТЭК России по 4 уровню доверия.
A15: SCANER-VS-7-UNL-E-F | B15: Программное обеспечение "Сканер-ВС". Лицензия Enterprise без ограничений активов на 1 год (рег. № 231) | C15: ='Сканер-ВС 7.0 BASE ФСТЭК'!C16+2000000 -> 7232500 | D15: 1 | E15: =D15*C15 -> 7232500 | F15: Лицензия на программное обеспечение "Сканер-ВС". Лицензия Enterprise на 1 год. Обновления базы уязвимостей, технической поддержки и аудита конфигурации ОС в течение 1 года. Сертификат ФСТЭК России по 4 уровню доверия.
A16: Партнерская скидка распространяется на Средство анализа защищенности «Сканер-ВС»
A17: Комплект лицензий Сканер-ВС и Astra Linux, с USB (без НДС)
A18: SCANER-VS-7-08-E-F-AL | B18: Программное обеспечение "Сканер-ВС". Лицензия Enterprise на 8 активов на 1 год c OC CH ALSE (рег. № 231) | C18: =C4+32500+10000 -> 102500 | D18: 1 | E18: =C18*D18 -> 102500 | F18: Лицензия на программное обеспечение "Сканер-ВС". Лицензия Enterprise на 1 год. Обновления базы уязвимостей, технической поддержки и аудита конфигурации ОС в течение 1 года. Сертификат ФСТЭК России по 4 уровню доверия. Лицензия OC CH ALSE, USB-накопитель 256/512 GB.
A19: SCANER-VS-7-16-E-F-AL | B19: Программное обеспечение "Сканер-ВС". Лицензия Enterprise на 16 активов на 1 год c OC CH ALSE (рег. № 231) | C19: =C5+32500+10000 -> 152500 | D19: 1 | E19: =C19*D19 -> 152500 | F19: Лицензия на программное обеспечение "Сканер-ВС". Лицензия Enterprise на 1 год. Обновления базы уязвимостей, технической поддержки и аудита конфигурации ОС в течение 1 года. Сертификат ФСТЭК России по 4 уровню доверия. Лицензия OC CH ALSE, USB-накопитель 256/512 GB.
A20: SCANER-VS-7-32-E-F-AL | B20: Программное обеспечение "Сканер-ВС". Лицензия Enterprise на 32 активов на 1 год c OC CH ALSE (рег. № 231) | C20: =C6+32500+10000 -> 231500 | D20: 1 | E20: =C20*D20 -> 231500 | F20: Лицензия на программное обеспечение "Сканер-ВС". Лицензия Enterprise на 1 год. Обновления базы уязвимостей, технической поддержки и аудита конфигурации ОС в течение 1 года. Сертификат ФСТЭК России по 4 уровню доверия. Лицензия OC CH ALSE, USB-накопитель 256/512 GB.
A21: SCANER-VS-7-64-E-F-AL | B21: Программное обеспечение "Сканер-ВС". Лицензия Enterprise на 64 активов на 1 год c OC CH ALSE (рег. № 231) | C21: =C7+32500+10000 -> 316500 | D21: 1 | E21: =C21*D21 -> 316500 | F21: Лицензия на программное обеспечение "Сканер-ВС". Лицензия Enterprise на 1 год. Обновления базы уязвимостей, технической поддержки и аудита конфигурации ОС в течение 1 года. Сертификат ФСТЭК России по 4 уровню доверия. Лицензия OC CH ALSE, USB-накопитель 256/512 GB.
A22: SCANER-VS-7-128-E-F-AL | B22: Программное обеспечение "Сканер-ВС". Лицензия Enterprise на 128 активов на 1 год c OC CH ALSE (рег. № 231) | C22: =C8+32500+10000 -> 428500 | D22: 1 | E22: =C22*D22 -> 428500 | F22: Лицензия на программное обеспечение "Сканер-ВС". Лицензия Enterprise на 1 год. Обновления базы уязвимостей, технической поддержки и аудита конфигурации ОС в течение 1 года. Сертификат ФСТЭК России по 4 уровню доверия. Лицензия OC CH ALSE, USB-накопитель 256/512 GB.
A23: SCANER-VS-7-256-E-F-AL | B23: Программное обеспечение "Сканер-ВС". Лицензия Enterprise на 256 активов на 1 год c OC CH ALSE (рег. № 231) | C23: =C9+32500+10000 -> 732500 | D23: 1 | E23: =C23*D23 -> 732500 | F23: Лицензия на программное обеспечение "Сканер-ВС". Лицензия Enterprise на 1 год. Обновления базы уязвимостей, технической поддержки и аудита конфигурации ОС в течение 1 года. Сертификат ФСТЭК России по 4 уровню доверия. Лицензия OC CH ALSE, USB-накопитель 256/512 GB.
A24: SCANER-VS-7-512-E-F-AL | B24: Программное обеспечение "Сканер-ВС". Лицензия Enterprise на 512 активов на 1 год c OC CH ALSE (рег. № 231) | C24: =C10+32500+10000 -> 1307500 | D24: 1 | E24: =C24*D24 -> 1307500 | F24: Лицензия на программное обеспечение "Сканер-ВС". Лицензия Enterprise на 1 год. Обновления базы уязвимостей, технической поддержки и аудита конфигурации ОС в течение 1 года. Сертификат ФСТЭК России по 4 уровню доверия. Лицензия OC CH ALSE, USB-накопитель 256/512 GB.
A25: SCANER-VS-7-1024-E-F-AL | B25: Программное обеспечение "Сканер-ВС". Лицензия Enterprise на 1024 активов на 1 год c OC CH ALSE (рег. № 231) | C25: =C11+32500+10000 -> 1882500 | D25: 1 | E25: =C25*D25 -> 1882500 | F25: Лицензия на программное обеспечение "Сканер-ВС". Лицензия Enterprise на 1 год. Обновления базы уязвимостей, технической поддержки и аудита конфигурации ОС в течение 1 года. Сертификат ФСТЭК России по 4 уровню доверия. Лицензия OC CH ALSE, USB-накопитель 256/512 GB.
A26: SCANER-VS-7-2048-E-F-AL | B26: Программное обеспечение "Сканер-ВС". Лицензия Enterprise на 2048 активов на 1 год c OC CH ALSE (рег. № 231) | C26: =C12+32500+10000 -> 2457500 | D26: 1 | E26: =C26*D26 -> 2457500 | F26: Лицензия на программное обеспечение "Сканер-ВС". Лицензия Enterprise на 1 год. Обновления базы уязвимостей, технической поддержки и аудита конфигурации ОС в течение 1 года. Сертификат ФСТЭК России по 4 уровню доверия. Лицензия OC CH ALSE, USB-накопитель 256/512 GB.
A27: SCANER-VS-7-4096-E-F-AL | B27: Программное обеспечение "Сканер-ВС". Лицензия Enterprise на 4096 активов на 1 год c OC CH ALSE (рег. № 231) | C27: =C13+32500+10000 -> 3486000 | D27: 1 | E27: =C27*D27 -> 3486000 | F27: Лицензия на программное обеспечение "Сканер-ВС". Лицензия Enterprise на 1 год. Обновления базы уязвимостей, технической поддержки и аудита конфигурации ОС в течение 1 года. Сертификат ФСТЭК России по 4 уровню доверия. Лицензия OC CH ALSE, USB-накопитель 256/512 GB.
A28: SCANER-VS-7-8192-E-F-AL | B28: Программное обеспечение "Сканер-ВС". Лицензия Enterprise на 8192 активов на 1 год c OC CH ALSE (рег. № 231) | C28: =C14+32500+10000 -> 5530000 | D28: 1 | E28: =C28*D28 -> 5530000 | F28: Лицензия на программное обеспечение "Сканер-ВС". Лицензия Enterprise на 1 год. Обновления базы уязвимостей, технической поддержки и аудита конфигурации ОС в течение 1 года. Сертификат ФСТЭК России по 4 уровню доверия. Лицензия OC CH ALSE, USB-накопитель 256/512 GB.
A29: SCANER-VS-7-UNL-E-F-AL | B29: Программное обеспечение "Сканер-ВС". Лицензия без ограничения IP адресов на 1 год c OC CH ALSE (рег. № 231) | C29: =C15+32500+10000 -> 7275000 | D29: 1 | E29: =C29*D29 -> 7275000 | F29: Лицензия на программное обеспечение "Сканер-ВС". Лицензия Enterprise на 1 год. Обновления базы уязвимостей, технической поддержки и аудита конфигурации ОС в течение 1 года. Сертификат ФСТЭК России по 4 уровню доверия. Лицензия OC CH ALSE, USB-накопитель 256/512 GB.
A30: Переход на Сканер-ВС 7 Enterprise ( с версии Сканер-ВС 7 Base )
A31: SCANER-VS-7-B/7-E-08-F-UPP | B31: Средство анализа защищенности «Сканер-ВС». НПЕШ.00606-01. Переход с 7-й версии Base на Enterprise. Лицензия на 8 активов (рег. № 231) | C31: =ROUNDUP((C4-'Сканер-ВС 7.0 BASE ФСТЭК'!C5)*1.1,0) -> 31213 | D31: 1 | E31: =D31*C31 -> 31213 | F31: Переход на 7 версию "Сканер-ВС Enterprise". Соответствует срокам действующей лицензии
A32: SCANER-VS-7-B/7-E-16-F-UPP | B32: Средство анализа защищенности «Сканер-ВС». НПЕШ.00606-01. Переход с 7-й версии Base на Enterprise. Лицензия на 16 активов (рег. № 231) | C32: =ROUNDUP((C5-'Сканер-ВС 7.0 BASE ФСТЭК'!C6)*1.1,0) -> 52690 | D32: 1 | E32: =D32*C32 -> 52690 | F32: Переход на 7 версию "Сканер-ВС Enterprise". Соответствует срокам действующей лицензии
A33: SCANER-VS-7-B/7-E-32-F-UPP | B33: Средство анализа защищенности «Сканер-ВС». НПЕШ.00606-01. Переход с 7-й версии Base на Enterprise. Лицензия на 32 активов (рег. № 231) | C33: =ROUNDUP((C6-'Сканер-ВС 7.0 BASE ФСТЭК'!C7)*1.1,0) -> 109230 | D33: 1 | E33: =D33*C33 -> 109230 | F33: Переход на 7 версию "Сканер-ВС Enterprise". Соответствует срокам действующей лицензии
A34: SCANER-VS-7-B/7-E-64-F-UPP | B34: Средство анализа защищенности «Сканер-ВС». НПЕШ.00606-01. Переход с 7-й версии Base на Enterprise. Лицензия на 64 активов (рег. № 231) | C34: =ROUNDUP((C7-'Сканер-ВС 7.0 BASE ФСТЭК'!C8)*1.1,0) -> 164780 | D34: 1 | E34: =D34*C34 -> 164780 | F34: Переход на 7 версию "Сканер-ВС Enterprise". Соответствует срокам действующей лицензии
A35: SCANER-VS-7-B/7-E-128-F-UPP | B35: Средство анализа защищенности «Сканер-ВС». НПЕШ.00606-01. Переход с 7-й версии Base на Enterprise. Лицензия на 128 активов (рег. № 231) | C35: =ROUNDUP((C8-'Сканер-ВС 7.0 BASE ФСТЭК'!C9)*1.1,0) -> 219038 | D35: 1 | E35: =D35*C35 -> 219038 | F35: Переход на 7 версию "Сканер-ВС Enterprise". Соответствует срокам действующей лицензии
A36: SCANER-VS-7-B/7-E-256-F-UPP | B36: Средство анализа защищенности «Сканер-ВС». НПЕШ.00606-01. Переход с 7-й версии Base на Enterprise. Лицензия на 256 активов (рег. № 231) | C36: =ROUNDUP((C9-'Сканер-ВС 7.0 BASE ФСТЭК'!C10)*1.1,0) -> 462990 | D36: 1 | E36: =D36*C36 -> 462990 | F36: Переход на 7 версию "Сканер-ВС Enterprise". Соответствует срокам действующей лицензии
A37: SCANER-VS-7-B/7-E-512-F-UPP | B37: Средство анализа защищенности «Сканер-ВС». НПЕШ.00606-01. Переход с 7-й версии Base на Enterprise. Лицензия на 512 активов (рег. № 231) | C37: =ROUNDUP((C10-'Сканер-ВС 7.0 BASE ФСТЭК'!C11)*1.1,0) -> 931040 | D37: 1 | E37: =D37*C37 -> 931040 | F37: Переход на 7 версию "Сканер-ВС Enterprise". Соответствует срокам действующей лицензии
A38: SCANER-VS-7-B/7-E-1024-F-UPP | B38: Средство анализа защищенности «Сканер-ВС». НПЕШ.00606-01. Переход с 7-й версии Base на Enterprise. Лицензия на 1024 активов (рег. № 231) | C38: =ROUNDUP((C11-'Сканер-ВС 7.0 BASE ФСТЭК'!C12)*1.1,0) -> 1218195 | D38: 1 | E38: =D38*C38 -> 1218195 | F38: Переход на 7 версию "Сканер-ВС Enterprise". Соответствует срокам действующей лицензии
A39: SCANER-VS-7-B/7-E-2048-F-UPP | B39: Средство анализа защищенности «Сканер-ВС». НПЕШ.00606-01. Переход с 7-й версии Base на Enterprise. Лицензия на 2048 активов (рег. № 231) | C39: =ROUNDUP((C12-'Сканер-ВС 7.0 BASE ФСТЭК'!C13)*1.1,0) -> 1340900 | D39: 1 | E39: =D39*C39 -> 1340900 | F39: Переход на 7 версию "Сканер-ВС Enterprise". Соответствует срокам действующей лицензии
A40: SCANER-VS-7-B/7-E-4096-F-UPP | B40: Средство анализа защищенности «Сканер-ВС». НПЕШ.00606-01. Переход с 7-й версии Base на Enterprise. Лицензия на 4096 активов (рег. № 231) | C40: =ROUNDUP((C13-'Сканер-ВС 7.0 BASE ФСТЭК'!C14)*1.1,0) -> 1650000 | D40: 1 | E40: =D40*C40 -> 1650000 | F40: Переход на 7 версию "Сканер-ВС Enterprise". Соответствует срокам действующей лицензии
...

Sheet (Э) Сканер-ВС 7.0 Enterprise
A1: Электронная поставка - Средство анализа защищенности «Сканер-ВС» 7 Enterprise. Сертификат ФСТЭК
A2: Артикул | B2: Наименование | C2: Цена | D2: Количество | E2: Стоимость РРЦ | F2: Описание
A3: Основные лицензии (без НДС)
A4: SCANER-VS-7-8-E-F-EL | B4: Программное обеспечение "Сканер-ВС". Лицензия Enterprise на 8 активов на 1 год. Электронная поставка (рег. № 231) | C4: =60000 -> 60000 | D4: 1 | E4: =D4*C4 -> 60000 | F4: Лицензия на программное обеспечение "Сканер-ВС". Лицензия Enterprise на 1 год. Обновления базы уязвимостей, технической поддержки и аудита конфигурации ОС в течение 1 года. Сертификат ФСТЭК России по 4 уровню доверия. Электронная поставка.
A5: SCANER-VS-7-16-E-F-EL | B5: Программное обеспечение "Сканер-ВС". Лицензия Enterprise на 16 активов на 1 год. Электронная поставка (рег. № 231) | C5: =110000 -> 110000 | D5: 1 | E5: =D5*C5 -> 110000 | F5: Лицензия на программное обеспечение "Сканер-ВС". Лицензия Enterprise на 1 год. Обновления базы уязвимостей, технической поддержки и аудита конфигурации ОС в течение 1 года. Сертификат ФСТЭК России по 4 уровню доверия. Электронная поставка.
A6: SCANER-VS-7-32-E-F-EL | B6: Программное обеспечение "Сканер-ВС". Лицензия Enterprise на 32 активов на 1 год. Электронная поставка (рег. № 231) | C6: =189000 -> 189000 | D6: 1 | E6: =D6*C6 -> 189000 | F6: Лицензия на программное обеспечение "Сканер-ВС". Лицензия Enterprise на 1 год. Обновления базы уязвимостей, технической поддержки и аудита конфигурации ОС в течение 1 года. Сертификат ФСТЭК России по 4 уровню доверия. Электронная поставка.
A7: SCANER-VS-7-64-E-F-EL | B7: Программное обеспечение "Сканер-ВС". Лицензия Enterprise на 64 активов на 1 год. Электронная поставка (рег. № 231) | C7: 274000 | D7: 1 | E7: =D7*C7 -> 274000 | F7: Лицензия на программное обеспечение "Сканер-ВС". Лицензия Enterprise на 1 год. Обновления базы уязвимостей, технической поддержки и аудита конфигурации ОС в течение 1 года. Сертификат ФСТЭК России по 4 уровню доверия. Электронная поставка.
A8: SCANER-VS-7-128-E-F-EL | B8: Программное обеспечение "Сканер-ВС". Лицензия Enterprise на 128 активов на 1 год. Электронная поставка (рег. № 231) | C8: =386000 -> 386000 | D8: 1 | E8: =D8*C8 -> 386000 | F8: Лицензия на программное обеспечение "Сканер-ВС". Лицензия Enterprise на 1 год. Обновления базы уязвимостей, технической поддержки и аудита конфигурации ОС в течение 1 года. Сертификат ФСТЭК России по 4 уровню доверия. Электронная поставка.
A9: SCANER-VS-7-256-E-F-EL | B9: Программное обеспечение "Сканер-ВС". Лицензия Enterprise на 256 активов на 1 год. Электронная поставка (рег. № 231) | C9: =600000*1.15 -> 690000 | D9: 1 | E9: =D9*C9 -> 690000 | F9: Лицензия на программное обеспечение "Сканер-ВС". Лицензия Enterprise на 1 год. Обновления базы уязвимостей, технической поддержки и аудита конфигурации ОС в течение 1 года. Сертификат ФСТЭК России по 4 уровню доверия. Электронная поставка.
A10: SCANER-VS-7-512-E-F-EL | B10: Программное обеспечение "Сканер-ВС". Лицензия Enterprise на 512 активов на 1 год. Электронная поставка (рег. № 231) | C10: =1100000*1.15 -> 1265000 | D10: 1 | E10: =D10*C10 -> 1265000 | F10: Лицензия на программное обеспечение "Сканер-ВС". Лицензия Enterprise на 1 год. Обновления базы уязвимостей, технической поддержки и аудита конфигурации ОС в течение 1 года. Сертификат ФСТЭК России по 4 уровню доверия. Электронная поставка.
A11: SCANER-VS-7-1024-E-F-EL | B11: Программное обеспечение "Сканер-ВС". Лицензия Enterprise на 1024 активов на 1 год. Электронная поставка (рег. № 231) | C11: =1600000*1.15 -> 1840000 | D11: 1 | E11: =D11*C11 -> 1840000 | F11: Лицензия на программное обеспечение "Сканер-ВС". Лицензия Enterprise на 1 год. Обновления базы уязвимостей, технической поддержки и аудита конфигурации ОС в течение 1 года. Сертификат ФСТЭК России по 4 уровню доверия. Электронная поставка.
A12: SCANER-VS-7-2048-E-F-EL | B12: Программное обеспечение "Сканер-ВС". Лицензия Enterprise на 2048 активов на 1 год. Электронная поставка (рег. № 231) | C12: =2100000*1.15 -> 2415000 | D12: 1 | E12: =D12*C12 -> 2415000 | F12: Лицензия на программное обеспечение "Сканер-ВС". Лицензия Enterprise на 1 год. Обновления базы уязвимостей, технической поддержки и аудита конфигурации ОС в течение 1 года. Сертификат ФСТЭК России по 4 уровню доверия. Электронная поставка.
A13: SCANER-VS-7-4096-E-F-EL | B13: Программное обеспечение "Сканер-ВС". Лицензия Enterprise на 4096 активов на 1 год. Электронная поставка (рег. № 231) | C13: ='Сканер-ВС 7.0 BASE ФСТЭК'!C14+1500000 -> 3443500 | D13: 1 | E13: =D13*C13 -> 3443500 | F13: Лицензия на программное обеспечение "Сканер-ВС". Лицензия Enterprise на 1 год. Обновления базы уязвимостей, технической поддержки и аудита конфигурации ОС в течение 1 года. Сертификат ФСТЭК России по 4 уровню доверия. Электронная поставка.
A14: SCANER-VS-7-8192-E-F-EL | B14: Программное обеспечение "Сканер-ВС". Лицензия Enterprise на 8192 активов на 1 год. Электронная поставка (рег. № 231) | C14: ='Сканер-ВС 7.0 BASE ФСТЭК'!C15+1750000 -> 5487500 | D14: 1 | E14: =D14*C14 -> 5487500 | F14: Лицензия на программное обеспечение "Сканер-ВС". Лицензия Enterprise на 1 год. Обновления базы уязвимостей, технической поддержки и аудита конфигурации ОС в течение 1 года. Сертификат ФСТЭК России по 4 уровню доверия. Электронная поставка.
A15: SCANER-VS-7-UNL-E-F-EL | B15: Программное обеспечение "Сканер-ВС". Лицензия Enterprise без ограничений активов на 1 год. Электронная поставка (рег. № 231) | C15: ='Сканер-ВС 7.0 BASE ФСТЭК'!C16+2000000 -> 7232500 | D15: 1 | E15: =D15*C15 -> 7232500 | F15: Лицензия на программное обеспечение "Сканер-ВС". Лицензия Enterprise на 1 год. Обновления базы уязвимостей, технической поддержки и аудита конфигурации ОС в течение 1 года. Сертификат ФСТЭК России по 4 уровню доверия. Электронная поставка.
A16: Переход на Сканер-ВС 7 Enterprise ( с версии Сканер-ВС 7 Base )
A17: SCANER-VS-7-B/7-E-08-F-UPP-EL | B17: Средство анализа защищенности «Сканер-ВС». НПЕШ.00606-01. Переход с 7-й версии Base на Enterprise. Лицензия на 8 активов. Электронная поставка (рег. № 231) | C17: =ROUNDUP((C4-'Сканер-ВС 7.0 BASE ФСТЭК'!C5)*1.1,0) -> 31213 | D17: 1 | E17: =D17*C17 -> 31213 | F17: Переход на 7 версию "Сканер-ВС Enterprise". Соответствует срокам действующей лицензии. Электронная поставка.
A18: SCANER-VS-7-B/7-E-16-F-UPP-EL | B18: Средство анализа защищенности «Сканер-ВС». НПЕШ.00606-01. Переход с 7-й версии Base на Enterprise. Лицензия на 16 активов. Электронная поставка (рег. № 231) | C18: =ROUNDUP((C5-'Сканер-ВС 7.0 BASE ФСТЭК'!C6)*1.1,0) -> 52690 | D18: 1 | E18: =D18*C18 -> 52690 | F18: Переход на 7 версию "Сканер-ВС Enterprise". Соответствует срокам действующей лицензии. Электронная поставка.
A19: SCANER-VS-7-B/7-E-32-F-UPP-EL | B19: Средство анализа защищенности «Сканер-ВС». НПЕШ.00606-01. Переход с 7-й версии Base на Enterprise. Лицензия на 32 активов. Электронная поставка (рег. № 231) | C19: =ROUNDUP((C6-'Сканер-ВС 7.0 BASE ФСТЭК'!C7)*1.1,0) -> 109230 | D19: 1 | E19: =D19*C19 -> 109230 | F19: Переход на 7 версию "Сканер-ВС Enterprise". Соответствует срокам действующей лицензии. Электронная поставка.
A20: SCANER-VS-7-B/7-E-64-F-UPP-EL | B20: Средство анализа защищенности «Сканер-ВС». НПЕШ.00606-01. Переход с 7-й версии Base на Enterprise. Лицензия на 64 активов. Электронная поставка (рег. № 231) | C20: =ROUNDUP((C7-'Сканер-ВС 7.0 BASE ФСТЭК'!C8)*1.1,0) -> 164780 | D20: 1 | E20: =D20*C20 -> 164780 | F20: Переход на 7 версию "Сканер-ВС Enterprise". Соответствует срокам действующей лицензии. Электронная поставка.
A21: SCANER-VS-7-B/7-E-128-F-UPP-EL | B21: Средство анализа защищенности «Сканер-ВС». НПЕШ.00606-01. Переход с 7-й версии Base на Enterprise. Лицензия на 128 активов. Электронная поставка (рег. № 231) | C21: =ROUNDUP((C8-'Сканер-ВС 7.0 BASE ФСТЭК'!C9)*1.1,0) -> 219038 | D21: 1 | E21: =D21*C21 -> 219038 | F21: Переход на 7 версию "Сканер-ВС Enterprise". Соответствует срокам действующей лицензии. Электронная поставка.
A22: SCANER-VS-7-B/7-E-256-F-UPP-EL | B22: Средство анализа защищенности «Сканер-ВС». НПЕШ.00606-01. Переход с 7-й версии Base на Enterprise. Лицензия на 256 активов. Электронная поставка (рег. № 231) | C22: =ROUNDUP((C9-'Сканер-ВС 7.0 BASE ФСТЭК'!C10)*1.1,0) -> 462990 | D22: 1 | E22: =D22*C22 -> 462990 | F22: Переход на 7 версию "Сканер-ВС Enterprise". Соответствует срокам действующей лицензии. Электронная поставка.
A23: SCANER-VS-7-B/7-E-512-F-UPP-EL | B23: Средство анализа защищенности «Сканер-ВС». НПЕШ.00606-01. Переход с 7-й версии Base на Enterprise. Лицензия на 512 активов. Электронная поставка (рег. № 231) | C23: =ROUNDUP((C10-'Сканер-ВС 7.0 BASE ФСТЭК'!C11)*1.1,0) -> 931040 | D23: 1 | E23: =D23*C23 -> 931040 | F23: Переход на 7 версию "Сканер-ВС Enterprise". Соответствует срокам действующей лицензии. Электронная поставка.
A24: SCANER-VS-7-B/7-E-1024-F-UPP-EL | B24: Средство анализа защищенности «Сканер-ВС». НПЕШ.00606-01. Переход с 7-й версии Base на Enterprise. Лицензия на 1024 активов. Электронная поставка (рег. № 231) | C24: =ROUNDUP((C11-'Сканер-ВС 7.0 BASE ФСТЭК'!C12)*1.1,0) -> 1218195 | D24: 1 | E24: =D24*C24 -> 1218195 | F24: Переход на 7 версию "Сканер-ВС Enterprise". Соответствует срокам действующей лицензии. Электронная поставка.
A25: SCANER-VS-7-B/7-E-2048-F-UPP-EL | B25: Средство анализа защищенности «Сканер-ВС». НПЕШ.00606-01. Переход с 7-й версии Base на Enterprise. Лицензия на 2048 активов. Электронная поставка (рег. № 231) | C25: =ROUNDUP((C12-'Сканер-ВС 7.0 BASE ФСТЭК'!C13)*1.1,0) -> 1340900 | D25: 1 | E25: =D25*C25 -> 1340900 | F25: Переход на 7 версию "Сканер-ВС Enterprise". Соответствует срокам действующей лицензии. Электронная поставка.
A26: SCANER-VS-7-B/7-E-4096-F-UPP-EL | B26: Средство анализа защищенности «Сканер-ВС». НПЕШ.00606-01. Переход с 7-й версии Base на Enterprise. Лицензия на 4096 активов. Электронная поставка (рег. № 231) | C26: =ROUNDUP((C13-'Сканер-ВС 7.0 BASE ФСТЭК'!C14)*1.1,0) -> 1650000 | D26: 1 | E26: =D26*C26 -> 1650000 | F26: Переход на 7 версию "Сканер-ВС Enterprise". Соответствует срокам действующей лицензии. Электронная поставка.
A27: SCANER-VS-7-B/7-E-8192-F-UPP-EL | B27: Средство анализа защищенности «Сканер-ВС». НПЕШ.00606-01. Переход с 7-й версии Base на Enterprise. Лицензия на 8192 активов. Электронная поставка (рег. № 231) | C27: =ROUNDUP((C14-'Сканер-ВС 7.0 BASE ФСТЭК'!C15)*1.1,0) -> 1925000 | D27: 1 | E27: =D27*C27 -> 1925000 | F27: Переход на 7 версию "Сканер-ВС Enterprise". Соответствует срокам действующей лицензии. Электронная поставка.
A28: SCANER-VS-7-B/7-E-UNL-F-UPP-EL | B28: Средство анализа защищенности «Сканер-ВС». НПЕШ.00606-01. Переход с 7-й версии Base на Enterprise. Лицензия без ограничения по количеству активов. Электронная поставка (рег. № 231) | C28: =ROUNDUP((C15-'Сканер-ВС 7.0 BASE ФСТЭК'!C16)*1.1,0) -> 2200000 | D28: 1 | E28: =D28*C28 -> 2200000 | F28: Переход на 7 версию "Сканер-ВС Enterprise". Соответствует срокам действующей лицензии. Электронная поставка.
A29: Дополнительные IP адреса (без НДС)
A30: SCANER-VS-7-50-ADD-E-F-EL | B30: Программное обеспечение "Сканер-ВС Enterprise". Дополнительные активы к лицензии на 1 год. Электронная поставка (1-50) | C30: =7000*1.2 -> 8400 | D30: 1 | E30: =D30*C30 -> 8400 | F30: Дополнительные активы к лицензии на 1 год. Электронная поставка.
A31: SCANER-VS-7-100-ADD-E-F-EL | B31: Программное обеспечение "Сканер-ВС Enterprise". Дополнительные активы к лицензии на 1 год. Электронная поставка (51-100) | C31: =6000*1.2 -> 7200 | D31: 1 | E31: =D31*C31 -> 7200 | F31: Дополнительные активы к лицензии на 1 год. Электронная поставка.
A32: SCANER-VS-7-200-ADD-E-F-EL | B32: Программное обеспечение "Сканер-ВС Enterprise". Дополнительные активы к лицензии на 1 год. Электронная поставка (101-200) | C32: =5000*1.2 -> 6000 | D32: 1 | E32: =D32*C32 -> 6000 | F32: Дополнительные активы к лицензии на 1 год. Электронная поставка.
A33: SCANER-VS-7-500-ADD-E-F-EL | B33: Программное обеспечение "Сканер-ВС Enterprise". Дополнительные активы к лицензии на 1 год. Электронная поставка (201-500) | C33: 4800 | D33: 1 | E33: =D33*C33 -> 4800 | F33: Дополнительные активы к лицензии на 1 год. Электронная поставка.
A34: ПРОДЛЕНИЕ
A35: Основные лицензии (без НДС)
A36: SCANER-VS-7-8-UP-E-F-EL | B36: Программное средство "Сканер-ВС". Продление лицензии Enterprise на 8 активов на 1 год. Электронная поставка (рег. № 231) | C36: =C4*0.4 -> 24000 | D36: 1 | E36: =D36*C36 -> 24000 | F36: Продление ранее приобретенной лицензии программного обеспечения "Сканер-ВС". Лицензия Enterprise на 1 год. Обновление базы уязвимостей, технической поддержки и аудита конфигурации ОС. Сертификат ФСТЭК России по 4 уровню доверия. Электронная поставка.
A37: SCANER-VS-7-16-UP-E-F-EL | B37: Программное средство "Сканер-ВС". Продление лицензии Enterprise на 16 активов на 1 год. Электронная поставка (рег. № 231) | C37: =C5*0.4 -> 44000 | D37: 1 | E37: =D37*C37 -> 44000 | F37: Продление ранее приобретенной лицензии программного обеспечения "Сканер-ВС". Лицензия Enterprise на 1 год. Обновление базы уязвимостей, технической поддержки и аудита конфигурации ОС. Сертификат ФСТЭК России по 4 уровню доверия. Электронная поставка.
A38: SCANER-VS-7-32-UP-E-F-EL | B38: Программное средство "Сканер-ВС". Продление лицензии Enterprise на 32 активов на 1 год. Электронная поставка (рег. № 231) | C38: =C6*0.4 -> 75600 | D38: 1 | E38: =D38*C38 -> 75600 | F38: Продление ранее приобретенной лицензии программного обеспечения "Сканер-ВС". Лицензия Enterprise на 1 год. Обновление базы уязвимостей, технической поддержки и аудита конфигурации ОС. Сертификат ФСТЭК России по 4 уровню доверия. Электронная поставка.
A39: SCANER-VS-7-64-UP-E-F-EL | B39: Программное средство "Сканер-ВС". Продление лицензии Enterprise на 64 активов на 1 год. Электронная поставка (рег. № 231) | C39: =C7*0.4 -> 109600 | D39: 1 | E39: =D39*C39 -> 109600 | F39: Продление ранее приобретенной лицензии программного обеспечения "Сканер-ВС". Лицензия Enterprise на 1 год. Обновление базы уязвимостей, технической поддержки и аудита конфигурации ОС. Сертификат ФСТЭК России по 4 уровню доверия. Электронная поставка.
A40: SCANER-VS-7-128-UP-E-F-EL | B40: Программное средство "Сканер-ВС". Продление лицензии Enterprise на 128 активов на 1 год. Электронная поставка (рег. № 231) | C40: =C8*0.4 -> 154400 | D40: 1 | E40: =D40*C40 -> 154400 | F40: Продление ранее приобретенной лицензии программного обеспечения "Сканер-ВС". Лицензия Enterprise на 1 год. Обновление базы уязвимостей, технической поддержки и аудита конфигурации ОС. Сертификат ФСТЭК России по 4 уровню доверия. Электронная поставка.
...

Sheet Сканер-ВС Инспектор 7.0 ФСТЭК 
A1: Средство анализа защищенности «Сканер-ВС» 7 включает компонент "Инспектор". Сертификат ФСТЭК
A2: Артикул | B2: Наименование | C2: Цена | D2: Количество | E2: Стоимость РРЦ | F2: Описание
A3: Основные лицензии (без НДС)
A4: INSPECTOR-7-LIC-08-F | B4: Средство анализа защищенности «Сканер-ВС». Лицензия включает компонент «Инспектор», на 8 IP адресов на 1 год (рег. № 231) | C4: =58080*1.15 -> 66792 | D4: 1 | E4: =C4*D4 -> 66792 | F4: Лицензия ПО «Сканер-ВС Инспектор» на 1 год. 1 год обновления базы уязвимостей и технической поддержки. Сертификат ФСТЭК России по 4 уровню доверия.
A5: INSPECTOR-7-LIC-16-F | B5: Средство анализа защищенности «Сканер-ВС». Лицензия включает компонент «Инспектор», на 16 IP адресов на 1 год (рег. № 231) | C5: =74800*1.15 -> 86020 | D5: 1 | E5: =C5*D5 -> 86020 | F5: Лицензия ПО «Сканер-ВС Инспектор» на 1 год. 1 год обновления базы уязвимостей и технической поддержки. Сертификат ФСТЭК России по 4 уровню доверия.
A6: INSPECTOR-7-LIC-32-F | B6: Средство анализа защищенности «Сканер-ВС». Лицензия включает компонент «Инспектор», на 32 IP адреса на 1 год (рег. № 231) | C6: =105600*1.15 -> 121440 | D6: 1 | E6: =C6*D6 -> 121440 | F6: Лицензия ПО «Сканер-ВС Инспектор» на 1 год. 1 год обновления базы уязвимостей и технической поддержки. Сертификат ФСТЭК России по 4 уровню доверия.
A7: INSPECTOR-7-LIC-64-F | B7: Средство анализа защищенности «Сканер-ВС». Лицензия включает компонент «Инспектор», на 64 IP адреса на 1 год (рег. № 231) | C7: =135600*1.15 -> 155940 | D7: 1 | E7: =C7*D7 -> 155940 | F7: Лицензия ПО «Сканер-ВС Инспектор» на 1 год. 1 год обновления базы уязвимостей и технической поддержки. Сертификат ФСТЭК России по 4 уровню доверия.
